BEGIN:VCALENDAR
VERSION:2.0
PRODID:-// - ECPv6.15.20//NONSGML v1.0//EN
CALSCALE:GREGORIAN
METHOD:PUBLISH
X-ORIGINAL-URL:https://studioartvivendi.de
X-WR-CALDESC:Veranstaltungen für 
REFRESH-INTERVAL;VALUE=DURATION:PT1H
X-Robots-Tag:noindex
X-PUBLISHED-TTL:PT1H
BEGIN:VTIMEZONE
TZID:Europe/Berlin
BEGIN:DAYLIGHT
TZOFFSETFROM:+0100
TZOFFSETTO:+0200
TZNAME:CEST
DTSTART:20280326T010000
END:DAYLIGHT
BEGIN:STANDARD
TZOFFSETFROM:+0200
TZOFFSETTO:+0100
TZNAME:CET
DTSTART:20281029T010000
END:STANDARD
BEGIN:DAYLIGHT
TZOFFSETFROM:+0100
TZOFFSETTO:+0200
TZNAME:CEST
DTSTART:20290325T010000
END:DAYLIGHT
BEGIN:STANDARD
TZOFFSETFROM:+0200
TZOFFSETTO:+0100
TZNAME:CET
DTSTART:20291028T010000
END:STANDARD
BEGIN:DAYLIGHT
TZOFFSETFROM:+0100
TZOFFSETTO:+0200
TZNAME:CEST
DTSTART:20300331T010000
END:DAYLIGHT
BEGIN:STANDARD
TZOFFSETFROM:+0200
TZOFFSETTO:+0100
TZNAME:CET
DTSTART:20301027T010000
END:STANDARD
END:VTIMEZONE
BEGIN:VEVENT
DTSTART;TZID=Europe/Berlin:20290301T190000
DTEND;TZID=Europe/Berlin:20290301T200000
DTSTAMP:20260425T175711
CREATED:20241016T151751Z
LAST-MODIFIED:20241016T153124Z
UID:10001821-1867086000-1867089600@studioartvivendi.de
SUMMARY:Yoga
DESCRIPTION:Yoga kommt aus der indischen Philosophie und vereint die geistige Konzentration mit körperlichen Übungen und Positionen sowie Atemübungen.
URL:https://studioartvivendi.de/event/yoga/2029-03-01/
ATTACH;FMTTYPE=image/jpeg:https://studioartvivendi.de/wp-content/uploads/2024/08/4056723-e1722689381535.jpg
END:VEVENT
BEGIN:VEVENT
DTSTART;TZID=Europe/Berlin:20290302T103000
DTEND;TZID=Europe/Berlin:20290305T114500
DTSTAMP:20260425T175711
CREATED:20241130T144056Z
LAST-MODIFIED:20250405T111813Z
UID:10002078-1867141800-1867405500@studioartvivendi.de
SUMMARY:Faszien-Yoga
DESCRIPTION:Faszien-Yoga ist eine spezielle Methode\, die sich gezielt auf die Pflege und Elastizität des faszialen Gewebes konzentriert. Fester Bestandteil des Kurses ist das Ausrollen der Faszien\, Dehnungen auf der Matte (Earth-Flow) und im Stehen (Sky-Flow).
URL:https://studioartvivendi.de/event/faszien-yoga-4/2029-03-02/
ATTACH;FMTTYPE=image/jpeg:https://studioartvivendi.de/wp-content/uploads/2024/08/Bilder-Praxis-neu-Hannah-scaled.jpg
END:VEVENT
BEGIN:VEVENT
DTSTART;TZID=Europe/Berlin:20290302T173000
DTEND;TZID=Europe/Berlin:20290302T183000
DTSTAMP:20260425T175711
CREATED:20251217T160732Z
LAST-MODIFIED:20251217T161550Z
UID:10002374-1867167000-1867170600@studioartvivendi.de
SUMMARY:KPOP - Tanzkurs
DESCRIPTION:K-Pop-Tanz bezeichnet die choreografierten Tänze zu koreanischer Popmusik (K-Pop). Er ist ein zentraler Bestandteil von K-Pop-Songs und -Auftritten.
URL:https://studioartvivendi.de/event/kpop-tanzkurs/2029-03-02/
ATTACH;FMTTYPE=image/jpeg:https://studioartvivendi.de/wp-content/uploads/2025/12/KPOP-Bild-scaled.jpg
ORGANIZER;CN="Sarah Glaw":MAILTO:sabine.weh@studioartvivendi.de
END:VEVENT
BEGIN:VEVENT
DTSTART;TZID=Europe/Berlin:20290305T190000
DTEND;TZID=Europe/Berlin:20290305T200000
DTSTAMP:20260425T175711
CREATED:20240805T164937Z
LAST-MODIFIED:20240805T170013Z
UID:10001053-1867431600-1867435200@studioartvivendi.de
SUMMARY:Zumba Fitness
DESCRIPTION:Zumba vereint Bewegungen mit wechselnder Intensität zu einem Intervalltraining\, das Kalorien verbrennt und das Gefühl einer Tanz-Fitness-Party vermittelt. Dieses Workout bietet ein umfassendes Training zu lateinamerikanischen und globalen Rhythmen\, das Fitness\, Kardio\, Muskelaufbau sowie Balance- und Flexibilitätsübungen integriert.
URL:https://studioartvivendi.de/event/zumba-fitness/2029-03-05/
LOCATION:Studio Art Vivendi\, Zeppelinstraße 7\, Radolfzell\, Baden-Württemberg\, 78315\, Germany
ATTACH;FMTTYPE=image/jpeg:https://studioartvivendi.de/wp-content/uploads/2024/08/2382200.jpg
END:VEVENT
BEGIN:VEVENT
DTSTART;TZID=Europe/Berlin:20290306T190000
DTEND;TZID=Europe/Berlin:20290306T201500
DTSTAMP:20260425T175711
CREATED:20240805T162510Z
LAST-MODIFIED:20250405T112546Z
UID:10000796-1867518000-1867522500@studioartvivendi.de
SUMMARY:Faszien-Yoga
DESCRIPTION:Dieser Kurs unterstützt muskuläre und fasziale Spannungen zu lösen\, und schafft Raum für Gelenke\, Strukturen\, Nerven und Meridiane. Diese intensive und effektive Therapie- und Yogaform führt zu mehr Bewegungsfreiheit und… Faszien-Yoga weiterlesen
URL:https://studioartvivendi.de/event/faszien-yoga-2/2029-03-06/
LOCATION:Studio Art Vivendi\, Zeppelinstraße 7\, Radolfzell\, Baden-Württemberg\, 78315\, Germany
ATTACH;FMTTYPE=image/jpeg:https://studioartvivendi.de/wp-content/uploads/2024/08/Bild-Praxis-neu-Hannah-2-scaled.jpg
END:VEVENT
BEGIN:VEVENT
DTSTART;TZID=Europe/Berlin:20290308T190000
DTEND;TZID=Europe/Berlin:20290308T200000
DTSTAMP:20260425T175711
CREATED:20241016T151751Z
LAST-MODIFIED:20241016T153124Z
UID:10001822-1867690800-1867694400@studioartvivendi.de
SUMMARY:Yoga
DESCRIPTION:Yoga kommt aus der indischen Philosophie und vereint die geistige Konzentration mit körperlichen Übungen und Positionen sowie Atemübungen.
URL:https://studioartvivendi.de/event/yoga/2029-03-08/
ATTACH;FMTTYPE=image/jpeg:https://studioartvivendi.de/wp-content/uploads/2024/08/4056723-e1722689381535.jpg
END:VEVENT
BEGIN:VEVENT
DTSTART;TZID=Europe/Berlin:20290309T103000
DTEND;TZID=Europe/Berlin:20290312T114500
DTSTAMP:20260425T175711
CREATED:20241130T144056Z
LAST-MODIFIED:20250405T111813Z
UID:10002079-1867746600-1868010300@studioartvivendi.de
SUMMARY:Faszien-Yoga
DESCRIPTION:Faszien-Yoga ist eine spezielle Methode\, die sich gezielt auf die Pflege und Elastizität des faszialen Gewebes konzentriert. Fester Bestandteil des Kurses ist das Ausrollen der Faszien\, Dehnungen auf der Matte (Earth-Flow) und im Stehen (Sky-Flow).
URL:https://studioartvivendi.de/event/faszien-yoga-4/2029-03-09/
ATTACH;FMTTYPE=image/jpeg:https://studioartvivendi.de/wp-content/uploads/2024/08/Bilder-Praxis-neu-Hannah-scaled.jpg
END:VEVENT
BEGIN:VEVENT
DTSTART;TZID=Europe/Berlin:20290309T173000
DTEND;TZID=Europe/Berlin:20290309T183000
DTSTAMP:20260425T175711
CREATED:20251217T160732Z
LAST-MODIFIED:20251217T161550Z
UID:10002375-1867771800-1867775400@studioartvivendi.de
SUMMARY:KPOP - Tanzkurs
DESCRIPTION:K-Pop-Tanz bezeichnet die choreografierten Tänze zu koreanischer Popmusik (K-Pop). Er ist ein zentraler Bestandteil von K-Pop-Songs und -Auftritten.
URL:https://studioartvivendi.de/event/kpop-tanzkurs/2029-03-09/
ATTACH;FMTTYPE=image/jpeg:https://studioartvivendi.de/wp-content/uploads/2025/12/KPOP-Bild-scaled.jpg
ORGANIZER;CN="Sarah Glaw":MAILTO:sabine.weh@studioartvivendi.de
END:VEVENT
BEGIN:VEVENT
DTSTART;TZID=Europe/Berlin:20290312T190000
DTEND;TZID=Europe/Berlin:20290312T200000
DTSTAMP:20260425T175711
CREATED:20240805T164937Z
LAST-MODIFIED:20240805T170013Z
UID:10001054-1868036400-1868040000@studioartvivendi.de
SUMMARY:Zumba Fitness
DESCRIPTION:Zumba vereint Bewegungen mit wechselnder Intensität zu einem Intervalltraining\, das Kalorien verbrennt und das Gefühl einer Tanz-Fitness-Party vermittelt. Dieses Workout bietet ein umfassendes Training zu lateinamerikanischen und globalen Rhythmen\, das Fitness\, Kardio\, Muskelaufbau sowie Balance- und Flexibilitätsübungen integriert.
URL:https://studioartvivendi.de/event/zumba-fitness/2029-03-12/
LOCATION:Studio Art Vivendi\, Zeppelinstraße 7\, Radolfzell\, Baden-Württemberg\, 78315\, Germany
ATTACH;FMTTYPE=image/jpeg:https://studioartvivendi.de/wp-content/uploads/2024/08/2382200.jpg
END:VEVENT
BEGIN:VEVENT
DTSTART;TZID=Europe/Berlin:20290313T190000
DTEND;TZID=Europe/Berlin:20290313T201500
DTSTAMP:20260425T175711
CREATED:20240805T162510Z
LAST-MODIFIED:20250405T112546Z
UID:10000797-1868122800-1868127300@studioartvivendi.de
SUMMARY:Faszien-Yoga
DESCRIPTION:Dieser Kurs unterstützt muskuläre und fasziale Spannungen zu lösen\, und schafft Raum für Gelenke\, Strukturen\, Nerven und Meridiane. Diese intensive und effektive Therapie- und Yogaform führt zu mehr Bewegungsfreiheit und… Faszien-Yoga weiterlesen
URL:https://studioartvivendi.de/event/faszien-yoga-2/2029-03-13/
LOCATION:Studio Art Vivendi\, Zeppelinstraße 7\, Radolfzell\, Baden-Württemberg\, 78315\, Germany
ATTACH;FMTTYPE=image/jpeg:https://studioartvivendi.de/wp-content/uploads/2024/08/Bild-Praxis-neu-Hannah-2-scaled.jpg
END:VEVENT
BEGIN:VEVENT
DTSTART;TZID=Europe/Berlin:20290315T190000
DTEND;TZID=Europe/Berlin:20290315T200000
DTSTAMP:20260425T175711
CREATED:20241016T151751Z
LAST-MODIFIED:20241016T153124Z
UID:10001823-1868295600-1868299200@studioartvivendi.de
SUMMARY:Yoga
DESCRIPTION:Yoga kommt aus der indischen Philosophie und vereint die geistige Konzentration mit körperlichen Übungen und Positionen sowie Atemübungen.
URL:https://studioartvivendi.de/event/yoga/2029-03-15/
ATTACH;FMTTYPE=image/jpeg:https://studioartvivendi.de/wp-content/uploads/2024/08/4056723-e1722689381535.jpg
END:VEVENT
BEGIN:VEVENT
DTSTART;TZID=Europe/Berlin:20290316T103000
DTEND;TZID=Europe/Berlin:20290319T114500
DTSTAMP:20260425T175711
CREATED:20241130T144056Z
LAST-MODIFIED:20250405T111813Z
UID:10002080-1868351400-1868615100@studioartvivendi.de
SUMMARY:Faszien-Yoga
DESCRIPTION:Faszien-Yoga ist eine spezielle Methode\, die sich gezielt auf die Pflege und Elastizität des faszialen Gewebes konzentriert. Fester Bestandteil des Kurses ist das Ausrollen der Faszien\, Dehnungen auf der Matte (Earth-Flow) und im Stehen (Sky-Flow).
URL:https://studioartvivendi.de/event/faszien-yoga-4/2029-03-16/
ATTACH;FMTTYPE=image/jpeg:https://studioartvivendi.de/wp-content/uploads/2024/08/Bilder-Praxis-neu-Hannah-scaled.jpg
END:VEVENT
BEGIN:VEVENT
DTSTART;TZID=Europe/Berlin:20290316T173000
DTEND;TZID=Europe/Berlin:20290316T183000
DTSTAMP:20260425T175711
CREATED:20251217T160732Z
LAST-MODIFIED:20251217T161550Z
UID:10002376-1868376600-1868380200@studioartvivendi.de
SUMMARY:KPOP - Tanzkurs
DESCRIPTION:K-Pop-Tanz bezeichnet die choreografierten Tänze zu koreanischer Popmusik (K-Pop). Er ist ein zentraler Bestandteil von K-Pop-Songs und -Auftritten.
URL:https://studioartvivendi.de/event/kpop-tanzkurs/2029-03-16/
ATTACH;FMTTYPE=image/jpeg:https://studioartvivendi.de/wp-content/uploads/2025/12/KPOP-Bild-scaled.jpg
ORGANIZER;CN="Sarah Glaw":MAILTO:sabine.weh@studioartvivendi.de
END:VEVENT
BEGIN:VEVENT
DTSTART;TZID=Europe/Berlin:20290319T190000
DTEND;TZID=Europe/Berlin:20290319T200000
DTSTAMP:20260425T175711
CREATED:20240805T164937Z
LAST-MODIFIED:20240805T170013Z
UID:10001055-1868641200-1868644800@studioartvivendi.de
SUMMARY:Zumba Fitness
DESCRIPTION:Zumba vereint Bewegungen mit wechselnder Intensität zu einem Intervalltraining\, das Kalorien verbrennt und das Gefühl einer Tanz-Fitness-Party vermittelt. Dieses Workout bietet ein umfassendes Training zu lateinamerikanischen und globalen Rhythmen\, das Fitness\, Kardio\, Muskelaufbau sowie Balance- und Flexibilitätsübungen integriert.
URL:https://studioartvivendi.de/event/zumba-fitness/2029-03-19/
LOCATION:Studio Art Vivendi\, Zeppelinstraße 7\, Radolfzell\, Baden-Württemberg\, 78315\, Germany
ATTACH;FMTTYPE=image/jpeg:https://studioartvivendi.de/wp-content/uploads/2024/08/2382200.jpg
END:VEVENT
BEGIN:VEVENT
DTSTART;TZID=Europe/Berlin:20290320T190000
DTEND;TZID=Europe/Berlin:20290320T201500
DTSTAMP:20260425T175711
CREATED:20240805T162510Z
LAST-MODIFIED:20250405T112546Z
UID:10000798-1868727600-1868732100@studioartvivendi.de
SUMMARY:Faszien-Yoga
DESCRIPTION:Dieser Kurs unterstützt muskuläre und fasziale Spannungen zu lösen\, und schafft Raum für Gelenke\, Strukturen\, Nerven und Meridiane. Diese intensive und effektive Therapie- und Yogaform führt zu mehr Bewegungsfreiheit und… Faszien-Yoga weiterlesen
URL:https://studioartvivendi.de/event/faszien-yoga-2/2029-03-20/
LOCATION:Studio Art Vivendi\, Zeppelinstraße 7\, Radolfzell\, Baden-Württemberg\, 78315\, Germany
ATTACH;FMTTYPE=image/jpeg:https://studioartvivendi.de/wp-content/uploads/2024/08/Bild-Praxis-neu-Hannah-2-scaled.jpg
END:VEVENT
BEGIN:VEVENT
DTSTART;TZID=Europe/Berlin:20290322T190000
DTEND;TZID=Europe/Berlin:20290322T200000
DTSTAMP:20260425T175711
CREATED:20241016T151751Z
LAST-MODIFIED:20241016T153124Z
UID:10001824-1868900400-1868904000@studioartvivendi.de
SUMMARY:Yoga
DESCRIPTION:Yoga kommt aus der indischen Philosophie und vereint die geistige Konzentration mit körperlichen Übungen und Positionen sowie Atemübungen.
URL:https://studioartvivendi.de/event/yoga/2029-03-22/
ATTACH;FMTTYPE=image/jpeg:https://studioartvivendi.de/wp-content/uploads/2024/08/4056723-e1722689381535.jpg
END:VEVENT
BEGIN:VEVENT
DTSTART;TZID=Europe/Berlin:20290323T103000
DTEND;TZID=Europe/Berlin:20290326T114500
DTSTAMP:20260425T175711
CREATED:20241130T144056Z
LAST-MODIFIED:20250405T111813Z
UID:10002081-1868956200-1869219900@studioartvivendi.de
SUMMARY:Faszien-Yoga
DESCRIPTION:Faszien-Yoga ist eine spezielle Methode\, die sich gezielt auf die Pflege und Elastizität des faszialen Gewebes konzentriert. Fester Bestandteil des Kurses ist das Ausrollen der Faszien\, Dehnungen auf der Matte (Earth-Flow) und im Stehen (Sky-Flow).
URL:https://studioartvivendi.de/event/faszien-yoga-4/2029-03-23/
ATTACH;FMTTYPE=image/jpeg:https://studioartvivendi.de/wp-content/uploads/2024/08/Bilder-Praxis-neu-Hannah-scaled.jpg
END:VEVENT
BEGIN:VEVENT
DTSTART;TZID=Europe/Berlin:20290323T173000
DTEND;TZID=Europe/Berlin:20290323T183000
DTSTAMP:20260425T175711
CREATED:20251217T160732Z
LAST-MODIFIED:20251217T161550Z
UID:10002377-1868981400-1868985000@studioartvivendi.de
SUMMARY:KPOP - Tanzkurs
DESCRIPTION:K-Pop-Tanz bezeichnet die choreografierten Tänze zu koreanischer Popmusik (K-Pop). Er ist ein zentraler Bestandteil von K-Pop-Songs und -Auftritten.
URL:https://studioartvivendi.de/event/kpop-tanzkurs/2029-03-23/
ATTACH;FMTTYPE=image/jpeg:https://studioartvivendi.de/wp-content/uploads/2025/12/KPOP-Bild-scaled.jpg
ORGANIZER;CN="Sarah Glaw":MAILTO:sabine.weh@studioartvivendi.de
END:VEVENT
BEGIN:VEVENT
DTSTART;TZID=Europe/Berlin:20290326T190000
DTEND;TZID=Europe/Berlin:20290326T200000
DTSTAMP:20260425T175711
CREATED:20240805T164937Z
LAST-MODIFIED:20240805T170013Z
UID:10001056-1869246000-1869249600@studioartvivendi.de
SUMMARY:Zumba Fitness
DESCRIPTION:Zumba vereint Bewegungen mit wechselnder Intensität zu einem Intervalltraining\, das Kalorien verbrennt und das Gefühl einer Tanz-Fitness-Party vermittelt. Dieses Workout bietet ein umfassendes Training zu lateinamerikanischen und globalen Rhythmen\, das Fitness\, Kardio\, Muskelaufbau sowie Balance- und Flexibilitätsübungen integriert.
URL:https://studioartvivendi.de/event/zumba-fitness/2029-03-26/
LOCATION:Studio Art Vivendi\, Zeppelinstraße 7\, Radolfzell\, Baden-Württemberg\, 78315\, Germany
ATTACH;FMTTYPE=image/jpeg:https://studioartvivendi.de/wp-content/uploads/2024/08/2382200.jpg
END:VEVENT
BEGIN:VEVENT
DTSTART;TZID=Europe/Berlin:20290327T190000
DTEND;TZID=Europe/Berlin:20290327T201500
DTSTAMP:20260425T175711
CREATED:20240805T162510Z
LAST-MODIFIED:20250405T112546Z
UID:10000799-1869332400-1869336900@studioartvivendi.de
SUMMARY:Faszien-Yoga
DESCRIPTION:Dieser Kurs unterstützt muskuläre und fasziale Spannungen zu lösen\, und schafft Raum für Gelenke\, Strukturen\, Nerven und Meridiane. Diese intensive und effektive Therapie- und Yogaform führt zu mehr Bewegungsfreiheit und… Faszien-Yoga weiterlesen
URL:https://studioartvivendi.de/event/faszien-yoga-2/2029-03-27/
LOCATION:Studio Art Vivendi\, Zeppelinstraße 7\, Radolfzell\, Baden-Württemberg\, 78315\, Germany
ATTACH;FMTTYPE=image/jpeg:https://studioartvivendi.de/wp-content/uploads/2024/08/Bild-Praxis-neu-Hannah-2-scaled.jpg
END:VEVENT
BEGIN:VEVENT
DTSTART;TZID=Europe/Berlin:20290329T190000
DTEND;TZID=Europe/Berlin:20290329T200000
DTSTAMP:20260425T175711
CREATED:20241016T151751Z
LAST-MODIFIED:20241016T153124Z
UID:10001825-1869505200-1869508800@studioartvivendi.de
SUMMARY:Yoga
DESCRIPTION:Yoga kommt aus der indischen Philosophie und vereint die geistige Konzentration mit körperlichen Übungen und Positionen sowie Atemübungen.
URL:https://studioartvivendi.de/event/yoga/2029-03-29/
ATTACH;FMTTYPE=image/jpeg:https://studioartvivendi.de/wp-content/uploads/2024/08/4056723-e1722689381535.jpg
END:VEVENT
BEGIN:VEVENT
DTSTART;TZID=Europe/Berlin:20290330T103000
DTEND;TZID=Europe/Berlin:20290402T114500
DTSTAMP:20260425T175711
CREATED:20241130T144056Z
LAST-MODIFIED:20250405T111813Z
UID:10002082-1869561000-1869824700@studioartvivendi.de
SUMMARY:Faszien-Yoga
DESCRIPTION:Faszien-Yoga ist eine spezielle Methode\, die sich gezielt auf die Pflege und Elastizität des faszialen Gewebes konzentriert. Fester Bestandteil des Kurses ist das Ausrollen der Faszien\, Dehnungen auf der Matte (Earth-Flow) und im Stehen (Sky-Flow).
URL:https://studioartvivendi.de/event/faszien-yoga-4/2029-03-30/
ATTACH;FMTTYPE=image/jpeg:https://studioartvivendi.de/wp-content/uploads/2024/08/Bilder-Praxis-neu-Hannah-scaled.jpg
END:VEVENT
BEGIN:VEVENT
DTSTART;TZID=Europe/Berlin:20290330T173000
DTEND;TZID=Europe/Berlin:20290330T183000
DTSTAMP:20260425T175711
CREATED:20251217T160732Z
LAST-MODIFIED:20251217T161550Z
UID:10002378-1869586200-1869589800@studioartvivendi.de
SUMMARY:KPOP - Tanzkurs
DESCRIPTION:K-Pop-Tanz bezeichnet die choreografierten Tänze zu koreanischer Popmusik (K-Pop). Er ist ein zentraler Bestandteil von K-Pop-Songs und -Auftritten.
URL:https://studioartvivendi.de/event/kpop-tanzkurs/2029-03-30/
ATTACH;FMTTYPE=image/jpeg:https://studioartvivendi.de/wp-content/uploads/2025/12/KPOP-Bild-scaled.jpg
ORGANIZER;CN="Sarah Glaw":MAILTO:sabine.weh@studioartvivendi.de
END:VEVENT
END:VCALENDAR